BEGIN:VCALENDAR
VERSION:2.0
PRODID:-//Gaelscoil Osraí, Cill Chainnigh, Co. Cill Chainnigh - Kilkenny, Co. Kilkenny - ECPv6.15.20//NONSGML v1.0//EN
CALSCALE:GREGORIAN
METHOD:PUBLISH
X-WR-CALNAME:Gaelscoil Osraí, Cill Chainnigh, Co. Cill Chainnigh - Kilkenny, Co. Kilkenny
X-ORIGINAL-URL:https://www.osrai.com
X-WR-CALDESC:Events for Gaelscoil Osraí, Cill Chainnigh, Co. Cill Chainnigh - Kilkenny, Co. Kilkenny
REFRESH-INTERVAL;VALUE=DURATION:PT1H
X-Robots-Tag:noindex
X-PUBLISHED-TTL:PT1H
BEGIN:VTIMEZONE
TZID:Europe/Dublin
BEGIN:STANDARD
TZOFFSETFROM:+0000
TZOFFSETTO:+0100
TZNAME:IST
DTSTART:20240331T010000
END:STANDARD
BEGIN:DAYLIGHT
TZOFFSETFROM:+0100
TZOFFSETTO:+0000
TZNAME:GMT
DTSTART:20241027T010000
END:DAYLIGHT
BEGIN:STANDARD
TZOFFSETFROM:+0000
TZOFFSETTO:+0100
TZNAME:IST
DTSTART:20250330T010000
END:STANDARD
BEGIN:DAYLIGHT
TZOFFSETFROM:+0100
TZOFFSETTO:+0000
TZNAME:GMT
DTSTART:20251026T010000
END:DAYLIGHT
BEGIN:STANDARD
TZOFFSETFROM:+0000
TZOFFSETTO:+0100
TZNAME:IST
DTSTART:20260329T010000
END:STANDARD
BEGIN:DAYLIGHT
TZOFFSETFROM:+0100
TZOFFSETTO:+0000
TZNAME:GMT
DTSTART:20261025T010000
END:DAYLIGHT
BEGIN:STANDARD
TZOFFSETFROM:+0000
TZOFFSETTO:+0100
TZNAME:IST
DTSTART:20270328T010000
END:STANDARD
BEGIN:DAYLIGHT
TZOFFSETFROM:+0100
TZOFFSETTO:+0000
TZNAME:GMT
DTSTART:20271031T010000
END:DAYLIGHT
END:VTIMEZONE
BEGIN:VEVENT
DTSTART;TZID=Europe/Dublin:20250411T090000
DTEND;TZID=Europe/Dublin:20250411T180000
DTSTAMP:20260422T091426
CREATED:20240227T143418Z
LAST-MODIFIED:20240227T143418Z
UID:4095-1744362000-1744394400@www.osrai.com
SUMMARY:Laethanta Saoire na Cásca - Leath Lá 12.00
DESCRIPTION:Laethanta Saoire na Cásca – Leath Lá 12.00 \nEaster Holidays – Half Day – School Closed at 12.00 Noon.
URL:https://www.osrai.com/event/laethanta-saoire-na-casca-leath-la-12-00-2/
END:VEVENT
BEGIN:VEVENT
DTSTART;TZID=Europe/Dublin:20250414T090000
DTEND;TZID=Europe/Dublin:20250418T180000
DTSTAMP:20260422T091426
CREATED:20240226T153219Z
LAST-MODIFIED:20240226T153219Z
UID:4047-1744621200-1744999200@www.osrai.com
SUMMARY:Laethanta Saoire na Cásca
DESCRIPTION:Laethanta Saoire na Cásca \nEaster Holidays
URL:https://www.osrai.com/event/laethanta-saoire-na-casca-2/
END:VEVENT
BEGIN:VEVENT
DTSTART;TZID=Europe/Dublin:20250430T093000
DTEND;TZID=Europe/Dublin:20250502T170000
DTSTAMP:20260422T091426
CREATED:20241128T123414Z
LAST-MODIFIED:20241128T123414Z
UID:4214-1746005400-1746205200@www.osrai.com
SUMMARY:Rang 5 Gaeltacht
DESCRIPTION:Rang 5 Gaeltacht Túras Scoile \n5th Class Gaeltacht Tripl
URL:https://www.osrai.com/event/rang-5-gaeltacht/
END:VEVENT
BEGIN:VEVENT
DTSTART;TZID=Europe/Dublin:20250505T090000
DTEND;TZID=Europe/Dublin:20250505T180000
DTSTAMP:20260422T091426
CREATED:20240226T153501Z
LAST-MODIFIED:20240226T153501Z
UID:4053-1746435600-1746468000@www.osrai.com
SUMMARY:Lá Saoire Bainc
DESCRIPTION:Lá Saoire Bainc \nMay Bank Holiday School Closed
URL:https://www.osrai.com/event/la-saoire-bainc-3/
END:VEVENT
BEGIN:VEVENT
DTSTART;TZID=Europe/Dublin:20250517T103000
DTEND;TZID=Europe/Dublin:20250517T123000
DTSTAMP:20260422T091426
CREATED:20241128T114308Z
LAST-MODIFIED:20241128T120659Z
UID:4210-1747477800-1747485000@www.osrai.com
SUMMARY:Céad Caomineach / First Communion 10.30am
DESCRIPTION:Céad Caoimineach / First Communion 10.30am
URL:https://www.osrai.com/event/cead-caomineach-first-communion-10-30am/
END:VEVENT
BEGIN:VEVENT
DTSTART;TZID=Europe/Dublin:20250530T080000
DTEND;TZID=Europe/Dublin:20250530T120000
DTSTAMP:20260422T091426
CREATED:20250429T113126Z
LAST-MODIFIED:20250429T113126Z
UID:4314-1748592000-1748606400@www.osrai.com
SUMMARY:An Scoil ag dúnadh do leath lá Seirbhíse 12.00
DESCRIPTION:Leath lá Seirbhíse – schoil ag dúnadh 12.00\nHalf day\, school closing at 12.00noon – Service Day
URL:https://www.osrai.com/event/an-scoil-ag-dunadh-do-leath-la-seirbhise-12-00/
END:VEVENT
BEGIN:VEVENT
DTSTART;TZID=Europe/Dublin:20250602T090000
DTEND;TZID=Europe/Dublin:20250602T180000
DTSTAMP:20260422T091426
CREATED:20240227T143904Z
LAST-MODIFIED:20240227T143904Z
UID:4100-1748854800-1748887200@www.osrai.com
SUMMARY:Lá Saoire Bainc
DESCRIPTION:Lá Saoire Bainc
URL:https://www.osrai.com/event/la-saoire-bainc-6/
END:VEVENT
BEGIN:VEVENT
DTSTART;TZID=Europe/Dublin:20250606T080000
DTEND;TZID=Europe/Dublin:20250606T140000
DTSTAMP:20260422T091426
CREATED:20250429T114539Z
LAST-MODIFIED:20250429T114539Z
UID:4316-1749196800-1749218400@www.osrai.com
SUMMARY:Lá Spóirt
DESCRIPTION:Lá Spóirt – Gaelscoil Osraí
URL:https://www.osrai.com/event/la-spoirt/
END:VEVENT
BEGIN:VEVENT
DTSTART;TZID=Europe/Dublin:20250620T090000
DTEND;TZID=Europe/Dublin:20250620T130000
DTSTAMP:20260422T091426
CREATED:20240226T154441Z
LAST-MODIFIED:20250227T101038Z
UID:4058-1750410000-1750424400@www.osrai.com
SUMMARY:An Scoil ag dúnadh do Shaoire an tSamhraidh 12.00
DESCRIPTION:An Scoil ag dúnadh do Shaoire an tSamhraidh 12.00 \nSummer Holidays – Half Day School Closes 12.00 Noon
URL:https://www.osrai.com/event/an-scoil-ag-dunadh-do-shaoire-an-tsamhraidh-12-00-2/
END:VEVENT
BEGIN:VEVENT
DTSTART;TZID=Europe/Dublin:20250623T090000
DTEND;TZID=Europe/Dublin:20250627T180000
DTSTAMP:20260422T091426
CREATED:20240227T144602Z
LAST-MODIFIED:20240227T144602Z
UID:4103-1750669200-1751047200@www.osrai.com
SUMMARY:Laethanta Saoire.
DESCRIPTION:Laethanta Saoire.
URL:https://www.osrai.com/event/laethanta-saoire-6/
END:VEVENT
BEGIN:VEVENT
DTSTART;TZID=Europe/Dublin:20250630T090000
DTEND;TZID=Europe/Dublin:20250704T180000
DTSTAMP:20260422T091426
CREATED:20240226T155212Z
LAST-MODIFIED:20240226T155212Z
UID:4060-1751274000-1751652000@www.osrai.com
SUMMARY:Laethanta Saoire.
DESCRIPTION:Laethanta Saoire.
URL:https://www.osrai.com/event/laethanta-saoire/
END:VEVENT
BEGIN:VEVENT
DTSTART;TZID=Europe/Dublin:20250707T090000
DTEND;TZID=Europe/Dublin:20250711T180000
DTSTAMP:20260422T091426
CREATED:20240226T155252Z
LAST-MODIFIED:20240227T135830Z
UID:4062-1751878800-1752256800@www.osrai.com
SUMMARY:Laethanta Saoire.
DESCRIPTION:Laethanta Saoire.
URL:https://www.osrai.com/event/laethanta-saoire-2/
END:VEVENT
BEGIN:VEVENT
DTSTART;TZID=Europe/Dublin:20250714T090000
DTEND;TZID=Europe/Dublin:20250718T180000
DTSTAMP:20260422T091426
CREATED:20240226T155340Z
LAST-MODIFIED:20240226T155340Z
UID:4064-1752483600-1752861600@www.osrai.com
SUMMARY:Laethanta Saoire.
DESCRIPTION:Laethanta Saoire.
URL:https://www.osrai.com/event/laethanta-saoire-3/
END:VEVENT
BEGIN:VEVENT
DTSTART;TZID=Europe/Dublin:20250721T090000
DTEND;TZID=Europe/Dublin:20250725T180000
DTSTAMP:20260422T091426
CREATED:20240226T155552Z
LAST-MODIFIED:20240226T155552Z
UID:4066-1753088400-1753466400@www.osrai.com
SUMMARY:Laethanta Saoire.
DESCRIPTION:Laethanta Saoire.
URL:https://www.osrai.com/event/laethanta-saoire-4/
END:VEVENT
BEGIN:VEVENT
DTSTART;TZID=Europe/Dublin:20250728T090000
DTEND;TZID=Europe/Dublin:20250826T180000
DTSTAMP:20260422T091426
CREATED:20240226T155852Z
LAST-MODIFIED:20250226T142025Z
UID:4068-1753693200-1756231200@www.osrai.com
SUMMARY:Laethanta Saoire.
DESCRIPTION:Laethanta Saoire.
URL:https://www.osrai.com/event/laethanta-saoire-5/
END:VEVENT
BEGIN:VEVENT
DTSTART;TZID=Europe/Dublin:20250827T080000
DTEND;TZID=Europe/Dublin:20250827T170000
DTSTAMP:20260422T091426
CREATED:20250226T142734Z
LAST-MODIFIED:20250226T142734Z
UID:4256-1756281600-1756314000@www.osrai.com
SUMMARY:Athoscailt na Scoile: 27ú Lúnasa / School Re-opens: 27th August
DESCRIPTION:
URL:https://www.osrai.com/event/athoscailt-na-scoile-27u-lunasa-school-re-opens-27th-august/
END:VEVENT
BEGIN:VEVENT
DTSTART;TZID=Europe/Dublin:20251025T080000
DTEND;TZID=Europe/Dublin:20251102T170000
DTSTAMP:20260422T091426
CREATED:20250226T143944Z
LAST-MODIFIED:20250226T144039Z
UID:4262-1761379200-1762102800@www.osrai.com
SUMMARY:Brisedh Lár Téarma: 24ú Deireadh Fómhair - 2ú Samhain
DESCRIPTION:Brisedh Lár Téarma: 24ú Deireadh Fómhair – 2ú Samhain Mid-Term Break 24th Oct – 2nd Nov (incl)
URL:https://www.osrai.com/event/brisedh-lar-tearma-24u-deireadh-fomhair-2u-samhain/
END:VEVENT
BEGIN:VEVENT
DTSTART;TZID=Europe/Dublin:20251103T080000
DTEND;TZID=Europe/Dublin:20251103T170000
DTSTAMP:20260422T091426
CREATED:20250227T110738Z
LAST-MODIFIED:20250227T110738Z
UID:4274-1762156800-1762189200@www.osrai.com
SUMMARY:Athoscailt na Scoile:
DESCRIPTION:Athoscailt na Scoile:\nSchool re-opens:
URL:https://www.osrai.com/event/athoscailt-na-scoile-2/
END:VEVENT
BEGIN:VEVENT
DTSTART;TZID=Europe/Dublin:20251219T080000
DTEND;TZID=Europe/Dublin:20251219T120000
DTSTAMP:20260422T091426
CREATED:20250226T143041Z
LAST-MODIFIED:20250226T143041Z
UID:4258-1766131200-1766145600@www.osrai.com
SUMMARY:Saoire na Nollag: Leath Lá 12.00
DESCRIPTION:Saoire na Nollaig / Leath lá 12.00pm \nChristmas Holidays / Half Day School Closes at 12.00 Noon
URL:https://www.osrai.com/event/saoire-na-nollag-leath-la-12-00-2/
END:VEVENT
BEGIN:VEVENT
DTSTART;TZID=Europe/Dublin:20251220T080000
DTEND;TZID=Europe/Dublin:20260104T170000
DTSTAMP:20260422T091426
CREATED:20250226T143305Z
LAST-MODIFIED:20250226T143305Z
UID:4260-1766217600-1767546000@www.osrai.com
SUMMARY:Saoire na Nollag
DESCRIPTION:Saoire na Nollag / Christmas Holidays
URL:https://www.osrai.com/event/saoire-na-nollag-3/
END:VEVENT
BEGIN:VEVENT
DTSTART;TZID=Europe/Dublin:20260105T080000
DTEND;TZID=Europe/Dublin:20260105T170000
DTSTAMP:20260422T091426
CREATED:20250227T110859Z
LAST-MODIFIED:20250227T110859Z
UID:4276-1767600000-1767632400@www.osrai.com
SUMMARY:Athoscailt na Scoile:
DESCRIPTION:Athoscailt na Scoile:\nSchool re-opens
URL:https://www.osrai.com/event/athoscailt-na-scoile-3/
END:VEVENT
BEGIN:VEVENT
DTSTART;TZID=Europe/Dublin:20260202T080000
DTEND;TZID=Europe/Dublin:20260202T170000
DTSTAMP:20260422T091426
CREATED:20231218T153334Z
LAST-MODIFIED:20250227T112555Z
UID:3966-1770019200-1770051600@www.osrai.com
SUMMARY:Lá Naomh Brigid - Lá Saoire Bainc
DESCRIPTION:Lá Naomh Brigid – Lá Saoire Bainc
URL:https://www.osrai.com/event/la-naomh-brigid/
END:VEVENT
BEGIN:VEVENT
DTSTART;TZID=Europe/Dublin:20260213T080000
DTEND;TZID=Europe/Dublin:20260213T170000
DTSTAMP:20260422T091426
CREATED:20250625T133152Z
LAST-MODIFIED:20250625T133152Z
UID:4322-1770969600-1771002000@www.osrai.com
SUMMARY:Lá Seirbhíse / Scoil dúnta
DESCRIPTION:In-House Service Day / School Closed
URL:https://www.osrai.com/event/la-seirbhise-scoil-dunta-4/
END:VEVENT
BEGIN:VEVENT
DTSTART;TZID=Europe/Dublin:20260219T080000
DTEND;TZID=Europe/Dublin:20260220T170000
DTSTAMP:20260422T091426
CREATED:20250227T113252Z
LAST-MODIFIED:20250227T113252Z
UID:4285-1771488000-1771606800@www.osrai.com
SUMMARY:Briseadh Lár-Téarma:
DESCRIPTION:Briseadh Lár-Téarma:\nMid-term Break
URL:https://www.osrai.com/event/briseadh-lar-tearma-2/
END:VEVENT
BEGIN:VEVENT
DTSTART;TZID=Europe/Dublin:20260305T080000
DTEND;TZID=Europe/Dublin:20260305T170000
DTSTAMP:20260422T091426
CREATED:20251127T152219Z
LAST-MODIFIED:20251127T152224Z
UID:4386-1772697600-1772730000@www.osrai.com
SUMMARY:Lá Domhanda Leabhar / World Book Day
DESCRIPTION:Lá Domhanda Leabhar / World Book Day \n 
URL:https://www.osrai.com/event/la-domhanda-leabhar-world-book-day/
END:VEVENT
BEGIN:VEVENT
DTSTART;TZID=Europe/Dublin:20260317T080000
DTEND;TZID=Europe/Dublin:20260317T170000
DTSTAMP:20260422T091426
CREATED:20231218T154344Z
LAST-MODIFIED:20250227T111719Z
UID:3971-1773734400-1773766800@www.osrai.com
SUMMARY:Lá Saor- Lá le Pádraig
DESCRIPTION:Lá Saor – Lá le Pádraig
URL:https://www.osrai.com/event/la-saor-la-le-padraig/
END:VEVENT
BEGIN:VEVENT
DTSTART;TZID=Europe/Dublin:20260320T120000
DTEND;TZID=Europe/Dublin:20260320T133000
DTSTAMP:20260422T091426
CREATED:20251127T144716Z
LAST-MODIFIED:20251127T150413Z
UID:4376-1774008000-1774013400@www.osrai.com
SUMMARY:Coineartú Rang 6 / 6th Class Confirmation
DESCRIPTION:20ú Márta @ 12:00 noon\nCoineartú Rang 6 / 6th Class Confirmation\n\n12.00 meán lae Coineartú Rang 6 / 12.00 Midday Confirmation 6th Class
URL:https://www.osrai.com/event/4376/
END:VEVENT
BEGIN:VEVENT
DTSTART;TZID=Europe/Dublin:20260324T080000
DTEND;TZID=Europe/Dublin:20260327T170000
DTSTAMP:20260422T091426
CREATED:20251127T145109Z
LAST-MODIFIED:20251127T145138Z
UID:4378-1774339200-1774630800@www.osrai.com
SUMMARY:Gaeltacht Rang 6
DESCRIPTION:Rang 6 Gaeltacht an Daingean\n24ú – 27ú Márta
URL:https://www.osrai.com/event/gaeltacht-rang-6-2/
END:VEVENT
BEGIN:VEVENT
DTSTART;TZID=Europe/Dublin:20260327T080000
DTEND;TZID=Europe/Dublin:20260327T170000
DTSTAMP:20260422T091426
CREATED:20240226T153030Z
LAST-MODIFIED:20250227T104758Z
UID:4045-1774598400-1774630800@www.osrai.com
SUMMARY:Laethanta Saoire na Cásca - Leath Lá 12.00
DESCRIPTION:Laethanta Saoire na Cásca – Leath Lá 12.00 \nEaster Holidays – Half Day – School Closed at 12.00 Noon.
URL:https://www.osrai.com/event/laethanta-saoire-na-casca-leath-la-12-00/
END:VEVENT
BEGIN:VEVENT
DTSTART;TZID=Europe/Dublin:20260328T080000
DTEND;TZID=Europe/Dublin:20260412T180000
DTSTAMP:20260422T091426
CREATED:20240226T153333Z
LAST-MODIFIED:20250226T145048Z
UID:4051-1774684800-1776016800@www.osrai.com
SUMMARY:Laethanta Saoire na Cásca
DESCRIPTION:Laethanta Saoire na Cásca \nEaster Holidays
URL:https://www.osrai.com/event/laethanta-saoire-na-casca-3/
END:VEVENT
END:VCALENDAR