BEGIN:VCALENDAR
VERSION:2.0
PRODID:-//Gaelscoil Osraí, Cill Chainnigh, Co. Cill Chainnigh - Kilkenny, Co. Kilkenny - ECPv6.15.20//NONSGML v1.0//EN
CALSCALE:GREGORIAN
METHOD:PUBLISH
X-ORIGINAL-URL:https://www.osrai.com
X-WR-CALDESC:Events for Gaelscoil Osraí, Cill Chainnigh, Co. Cill Chainnigh - Kilkenny, Co. Kilkenny
REFRESH-INTERVAL;VALUE=DURATION:PT1H
X-Robots-Tag:noindex
X-PUBLISHED-TTL:PT1H
BEGIN:VTIMEZONE
TZID:Europe/Dublin
BEGIN:STANDARD
TZOFFSETFROM:+0000
TZOFFSETTO:+0100
TZNAME:IST
DTSTART:20230326T010000
END:STANDARD
BEGIN:DAYLIGHT
TZOFFSETFROM:+0100
TZOFFSETTO:+0000
TZNAME:GMT
DTSTART:20231029T010000
END:DAYLIGHT
BEGIN:STANDARD
TZOFFSETFROM:+0000
TZOFFSETTO:+0100
TZNAME:IST
DTSTART:20240331T010000
END:STANDARD
BEGIN:DAYLIGHT
TZOFFSETFROM:+0100
TZOFFSETTO:+0000
TZNAME:GMT
DTSTART:20241027T010000
END:DAYLIGHT
BEGIN:STANDARD
TZOFFSETFROM:+0000
TZOFFSETTO:+0100
TZNAME:IST
DTSTART:20250330T010000
END:STANDARD
BEGIN:DAYLIGHT
TZOFFSETFROM:+0100
TZOFFSETTO:+0000
TZNAME:GMT
DTSTART:20251026T010000
END:DAYLIGHT
BEGIN:STANDARD
TZOFFSETFROM:+0000
TZOFFSETTO:+0100
TZNAME:IST
DTSTART:20260329T010000
END:STANDARD
BEGIN:DAYLIGHT
TZOFFSETFROM:+0100
TZOFFSETTO:+0000
TZNAME:GMT
DTSTART:20261025T010000
END:DAYLIGHT
END:VTIMEZONE
BEGIN:VEVENT
DTSTART;TZID=Europe/Dublin:20240624T090000
DTEND;TZID=Europe/Dublin:20240628T180000
DTSTAMP:20260422T092247
CREATED:20240227T134644Z
LAST-MODIFIED:20240227T134644Z
UID:4070-1719219600-1719597600@www.osrai.com
SUMMARY:Laethanta Saoire an tsamhraidh
DESCRIPTION:Laethanta Saoire an tsamhraidh \nSummer Holidays – School Closed
URL:https://www.osrai.com/event/laethanta-saoire-an-tsamhraidh/
END:VEVENT
BEGIN:VEVENT
DTSTART;TZID=Europe/Dublin:20240701T090000
DTEND;TZID=Europe/Dublin:20240705T180000
DTSTAMP:20260422T092247
CREATED:20240227T134735Z
LAST-MODIFIED:20240227T134735Z
UID:4072-1719824400-1720202400@www.osrai.com
SUMMARY:Laethanta Saoire an tsamhraidh
DESCRIPTION:Laethanta Saoire an tsamhraidh \nSummer Holidays – School Closed
URL:https://www.osrai.com/event/laethanta-saoire-an-tsamhraidh-2/
END:VEVENT
BEGIN:VEVENT
DTSTART;TZID=Europe/Dublin:20240708T090000
DTEND;TZID=Europe/Dublin:20240712T180000
DTSTAMP:20260422T092247
CREATED:20240227T135116Z
LAST-MODIFIED:20240227T140111Z
UID:4074-1720429200-1720807200@www.osrai.com
SUMMARY:Laethanta Saoire an tsamhraidh
DESCRIPTION:Laethanta Saoire an tsamhraidh \nSummer Holidays – School Closed
URL:https://www.osrai.com/event/laethanta-saoire-an-tsamhraidh-3/
END:VEVENT
BEGIN:VEVENT
DTSTART;TZID=Europe/Dublin:20240715T090000
DTEND;TZID=Europe/Dublin:20240719T180000
DTSTAMP:20260422T092247
CREATED:20240227T140214Z
LAST-MODIFIED:20240227T140214Z
UID:4076-1721034000-1721412000@www.osrai.com
SUMMARY:Laethanta Saoire an tsamhraidh
DESCRIPTION:Laethanta Saoire an tsamhraidh \nSummer Holidays – School Closed
URL:https://www.osrai.com/event/laethanta-saoire-an-tsamhraidh-4/
END:VEVENT
BEGIN:VEVENT
DTSTART;TZID=Europe/Dublin:20240722T090000
DTEND;TZID=Europe/Dublin:20240726T180000
DTSTAMP:20260422T092247
CREATED:20240227T140311Z
LAST-MODIFIED:20240227T140311Z
UID:4078-1721638800-1722016800@www.osrai.com
SUMMARY:Laethanta Saoire an tsamhraidh
DESCRIPTION:Laethanta Saoire an tsamhraidh \nSummer Holidays – School Closed
URL:https://www.osrai.com/event/laethanta-saoire-an-tsamhraidh-5/
END:VEVENT
BEGIN:VEVENT
DTSTART;TZID=Europe/Dublin:20240729T090000
DTEND;TZID=Europe/Dublin:20240802T180000
DTSTAMP:20260422T092247
CREATED:20240227T140403Z
LAST-MODIFIED:20240227T140403Z
UID:4080-1722243600-1722621600@www.osrai.com
SUMMARY:Laethanta Saoire an tsamhraidh
DESCRIPTION:Laethanta Saoire an tsamhraidh \nSummer Holidays – School Closed
URL:https://www.osrai.com/event/laethanta-saoire-an-tsamhraidh-6/
END:VEVENT
BEGIN:VEVENT
DTSTART;TZID=Europe/Dublin:20240805T090000
DTEND;TZID=Europe/Dublin:20240809T180000
DTSTAMP:20260422T092247
CREATED:20240227T140452Z
LAST-MODIFIED:20240227T140452Z
UID:4082-1722848400-1723226400@www.osrai.com
SUMMARY:Laethanta Saoire an tsamhraidh
DESCRIPTION:Laethanta Saoire an tsamhraidh \nSummer Holidays – School Closed
URL:https://www.osrai.com/event/laethanta-saoire-an-tsamhraidh-7/
END:VEVENT
BEGIN:VEVENT
DTSTART;TZID=Europe/Dublin:20240812T090000
DTEND;TZID=Europe/Dublin:20240816T180000
DTSTAMP:20260422T092247
CREATED:20240227T140543Z
LAST-MODIFIED:20240227T140543Z
UID:4084-1723453200-1723831200@www.osrai.com
SUMMARY:Laethanta Saoire an tsamhraidh
DESCRIPTION:Laethanta Saoire an tsamhraidh \nSummer Holidays – School Closed
URL:https://www.osrai.com/event/laethanta-saoire-an-tsamhraidh-8/
END:VEVENT
BEGIN:VEVENT
DTSTART;TZID=Europe/Dublin:20240819T090000
DTEND;TZID=Europe/Dublin:20240823T180000
DTSTAMP:20260422T092247
CREATED:20240227T140639Z
LAST-MODIFIED:20240227T140639Z
UID:4086-1724058000-1724436000@www.osrai.com
SUMMARY:Laethanta Saoire an tsamhraidh
DESCRIPTION:Laethanta Saoire an tsamhraidh \nSummer Holidays – School Closed
URL:https://www.osrai.com/event/laethanta-saoire-an-tsamhraidh-9/
END:VEVENT
BEGIN:VEVENT
DTSTART;TZID=Europe/Dublin:20240826T090000
DTEND;TZID=Europe/Dublin:20240827T180000
DTSTAMP:20260422T092247
CREATED:20240227T140737Z
LAST-MODIFIED:20240227T140737Z
UID:4088-1724662800-1724781600@www.osrai.com
SUMMARY:Laethanta Saoire an tsamhraidh
DESCRIPTION:Laethanta Saoire an tsamhraidh \nSummer Holidays – School Closed
URL:https://www.osrai.com/event/laethanta-saoire-an-tsamhraidh-10/
END:VEVENT
BEGIN:VEVENT
DTSTART;TZID=Europe/Dublin:20240828T090000
DTEND;TZID=Europe/Dublin:20240828T180000
DTSTAMP:20260422T092247
CREATED:20240226T120954Z
LAST-MODIFIED:20240226T123124Z
UID:4022-1724835600-1724868000@www.osrai.com
SUMMARY:Athoscailt na Scoile: 28ú Lúnasa
DESCRIPTION:Athoscailt na Scoile: 28ú Lúnasa \nSchool Re-opens: 28th August
URL:https://www.osrai.com/event/tus-an-tearma-nua-3/
END:VEVENT
BEGIN:VEVENT
DTSTART;TZID=Europe/Dublin:20241028T080000
DTEND;TZID=Europe/Dublin:20241101T170000
DTSTAMP:20260422T092247
CREATED:20240226T123628Z
LAST-MODIFIED:20240227T141152Z
UID:4026-1730102400-1730480400@www.osrai.com
SUMMARY:Brisedh Lár Téarma: 28ú Deireadh Fómhair - 1ú Samhain
DESCRIPTION:Brisedh Lár Téarma: 28ú Deireadh Fómhair – 1ú Samhain \nMid-Term Break 28th Oct – 1st Nov (incl)
URL:https://www.osrai.com/event/brisedh-lar-tearma-27u-deireadh-fomhair-4u-samhain/
END:VEVENT
BEGIN:VEVENT
DTSTART;TZID=Europe/Dublin:20241122T190000
DTEND;TZID=Europe/Dublin:20241122T230000
DTSTAMP:20260422T092247
CREATED:20241105T153738Z
LAST-MODIFIED:20241105T154337Z
UID:4170-1732302000-1732316400@www.osrai.com
SUMMARY:40 bliain fe bhláth
DESCRIPTION:
URL:https://www.osrai.com/event/40-bliain-fe-bhlath/
END:VEVENT
BEGIN:VEVENT
DTSTART;TZID=Europe/Dublin:20241220T080000
DTEND;TZID=Europe/Dublin:20241220T120000
DTSTAMP:20260422T092247
CREATED:20240226T125010Z
LAST-MODIFIED:20240226T125127Z
UID:4029-1734681600-1734696000@www.osrai.com
SUMMARY:Saoire na Nollag: Leath Lá 12.00
DESCRIPTION:Saoire na Nollag: Leath Lá 12.00 \nChristmas Holidays: (Half Day School Closes 12.00) \n 
URL:https://www.osrai.com/event/saoire-na-nollag-leath-la-12-00/
END:VEVENT
BEGIN:VEVENT
DTSTART;TZID=Europe/Dublin:20241223T080000
DTEND;TZID=Europe/Dublin:20241227T170000
DTSTAMP:20260422T092247
CREATED:20240226T125405Z
LAST-MODIFIED:20240226T125405Z
UID:4031-1734940800-1735318800@www.osrai.com
SUMMARY:Saoire na Nollag
DESCRIPTION:Saoire na Nollag \nChristmas Holidays
URL:https://www.osrai.com/event/saoire-na-nollag/
END:VEVENT
BEGIN:VEVENT
DTSTART;TZID=Europe/Dublin:20241230T080000
DTEND;TZID=Europe/Dublin:20250103T170000
DTSTAMP:20260422T092247
CREATED:20240226T125507Z
LAST-MODIFIED:20240226T125507Z
UID:4033-1735545600-1735923600@www.osrai.com
SUMMARY:Saoire na Nollag
DESCRIPTION:Saoire na Nollag \nChristmas Holidays
URL:https://www.osrai.com/event/saoire-na-nollag-2/
END:VEVENT
BEGIN:VEVENT
DTSTART;TZID=Europe/Dublin:20250106T080000
DTEND;TZID=Europe/Dublin:20250106T170000
DTSTAMP:20260422T092247
CREATED:20240226T125705Z
LAST-MODIFIED:20240226T125705Z
UID:4035-1736150400-1736182800@www.osrai.com
SUMMARY:Athoscailt na Scoile:
DESCRIPTION:Athoscailt na Scoile: \nSchool Re-opens
URL:https://www.osrai.com/event/athoscailt-na-scoile/
END:VEVENT
BEGIN:VEVENT
DTSTART;TZID=Europe/Dublin:20250203T080000
DTEND;TZID=Europe/Dublin:20250203T170000
DTSTAMP:20260422T092247
CREATED:20240226T125937Z
LAST-MODIFIED:20240226T125937Z
UID:4037-1738569600-1738602000@www.osrai.com
SUMMARY:Lá Naomh Brigid - Lá Saoire Bainc
DESCRIPTION:Lá Naomh Brigid – Lá Saoire Bainc
URL:https://www.osrai.com/event/la-naomh-brigid-la-saoire-bainc/
END:VEVENT
BEGIN:VEVENT
DTSTART;TZID=Europe/Dublin:20250220T080000
DTEND;TZID=Europe/Dublin:20250221T170000
DTSTAMP:20260422T092247
CREATED:20240226T152206Z
LAST-MODIFIED:20240226T152206Z
UID:4040-1740038400-1740157200@www.osrai.com
SUMMARY:Briseadh Lár-Téarma:
DESCRIPTION:Briseadh Lár Téarma \nMid-Term Break \n 
URL:https://www.osrai.com/event/briseadh-lar-tearma/
END:VEVENT
BEGIN:VEVENT
DTSTART;TZID=Europe/Dublin:20250306T110000
DTEND;TZID=Europe/Dublin:20250306T130000
DTSTAMP:20260422T092247
CREATED:20241128T113643Z
LAST-MODIFIED:20241128T113643Z
UID:4206-1741258800-1741266000@www.osrai.com
SUMMARY:Coineartú Rang 6 / 6th Class Confirmation
DESCRIPTION:11.00rn Coineartú Rang 6 \n11.00am Confirmation 6th Class
URL:https://www.osrai.com/event/coineartu-rang-6-6th-class-confirmation/
END:VEVENT
BEGIN:VEVENT
DTSTART;TZID=Europe/Dublin:20250311T193000
DTEND;TZID=Europe/Dublin:20250311T210000
DTSTAMP:20260422T092247
CREATED:20241128T113956Z
LAST-MODIFIED:20241128T114044Z
UID:4208-1741721400-1741726800@www.osrai.com
SUMMARY:Céad Aithrí / First Confession 7.30pm
DESCRIPTION:Céad Aithrí / First Confession Rang 2 Múinteoirí Ciara & Ashleigh 7.30pm
URL:https://www.osrai.com/event/cead-aithri-first-confession-7-30pm/
END:VEVENT
BEGIN:VEVENT
DTSTART;TZID=Europe/Dublin:20250317T080000
DTEND;TZID=Europe/Dublin:20250317T170000
DTSTAMP:20260422T092247
CREATED:20240226T152809Z
LAST-MODIFIED:20240226T152809Z
UID:4043-1742198400-1742230800@www.osrai.com
SUMMARY:Lá Saor- Lá le Pádraig
DESCRIPTION:Lá Saor- Lá le Pádraig\nSt. Patrick’s Day – School Closed
URL:https://www.osrai.com/event/la-saor-la-le-padraig-2/
END:VEVENT
BEGIN:VEVENT
DTSTART;TZID=Europe/Dublin:20250324T080000
DTEND;TZID=Europe/Dublin:20250324T170000
DTSTAMP:20260422T092247
CREATED:20241125T104546Z
LAST-MODIFIED:20241125T104546Z
UID:4174-1742803200-1742835600@www.osrai.com
SUMMARY:Lá Seirbhíse / Scoil dúnta
DESCRIPTION:School Closed / Service Day\n\n\n\n\n 
URL:https://www.osrai.com/event/la-seirbhise-scoil-dunta-2/
END:VEVENT
BEGIN:VEVENT
DTSTART;TZID=Europe/Dublin:20250401T093000
DTEND;TZID=Europe/Dublin:20250403T170000
DTSTAMP:20260422T092247
CREATED:20241128T123255Z
LAST-MODIFIED:20241128T123255Z
UID:4212-1743499800-1743699600@www.osrai.com
SUMMARY:Gaeltacht Rang 6
DESCRIPTION:Gaeltacht Túras Scoile Rang 6 \n6th Class Gaeltacht Tripl
URL:https://www.osrai.com/event/gaeltacht-rang-6/
END:VEVENT
BEGIN:VEVENT
DTSTART;TZID=Europe/Dublin:20250411T090000
DTEND;TZID=Europe/Dublin:20250411T180000
DTSTAMP:20260422T092247
CREATED:20240227T143418Z
LAST-MODIFIED:20240227T143418Z
UID:4095-1744362000-1744394400@www.osrai.com
SUMMARY:Laethanta Saoire na Cásca - Leath Lá 12.00
DESCRIPTION:Laethanta Saoire na Cásca – Leath Lá 12.00 \nEaster Holidays – Half Day – School Closed at 12.00 Noon.
URL:https://www.osrai.com/event/laethanta-saoire-na-casca-leath-la-12-00-2/
END:VEVENT
BEGIN:VEVENT
DTSTART;TZID=Europe/Dublin:20250414T090000
DTEND;TZID=Europe/Dublin:20250418T180000
DTSTAMP:20260422T092247
CREATED:20240226T153219Z
LAST-MODIFIED:20240226T153219Z
UID:4047-1744621200-1744999200@www.osrai.com
SUMMARY:Laethanta Saoire na Cásca
DESCRIPTION:Laethanta Saoire na Cásca \nEaster Holidays
URL:https://www.osrai.com/event/laethanta-saoire-na-casca-2/
END:VEVENT
BEGIN:VEVENT
DTSTART;TZID=Europe/Dublin:20250430T093000
DTEND;TZID=Europe/Dublin:20250502T170000
DTSTAMP:20260422T092247
CREATED:20241128T123414Z
LAST-MODIFIED:20241128T123414Z
UID:4214-1746005400-1746205200@www.osrai.com
SUMMARY:Rang 5 Gaeltacht
DESCRIPTION:Rang 5 Gaeltacht Túras Scoile \n5th Class Gaeltacht Tripl
URL:https://www.osrai.com/event/rang-5-gaeltacht/
END:VEVENT
BEGIN:VEVENT
DTSTART;TZID=Europe/Dublin:20250505T090000
DTEND;TZID=Europe/Dublin:20250505T180000
DTSTAMP:20260422T092247
CREATED:20240226T153501Z
LAST-MODIFIED:20240226T153501Z
UID:4053-1746435600-1746468000@www.osrai.com
SUMMARY:Lá Saoire Bainc
DESCRIPTION:Lá Saoire Bainc \nMay Bank Holiday School Closed
URL:https://www.osrai.com/event/la-saoire-bainc-3/
END:VEVENT
BEGIN:VEVENT
DTSTART;TZID=Europe/Dublin:20250517T103000
DTEND;TZID=Europe/Dublin:20250517T123000
DTSTAMP:20260422T092247
CREATED:20241128T114308Z
LAST-MODIFIED:20241128T120659Z
UID:4210-1747477800-1747485000@www.osrai.com
SUMMARY:Céad Caomineach / First Communion 10.30am
DESCRIPTION:Céad Caoimineach / First Communion 10.30am
URL:https://www.osrai.com/event/cead-caomineach-first-communion-10-30am/
END:VEVENT
BEGIN:VEVENT
DTSTART;TZID=Europe/Dublin:20250530T080000
DTEND;TZID=Europe/Dublin:20250530T120000
DTSTAMP:20260422T092247
CREATED:20250429T113126Z
LAST-MODIFIED:20250429T113126Z
UID:4314-1748592000-1748606400@www.osrai.com
SUMMARY:An Scoil ag dúnadh do leath lá Seirbhíse 12.00
DESCRIPTION:Leath lá Seirbhíse – schoil ag dúnadh 12.00\nHalf day\, school closing at 12.00noon – Service Day
URL:https://www.osrai.com/event/an-scoil-ag-dunadh-do-leath-la-seirbhise-12-00/
END:VEVENT
END:VCALENDAR